BEGIN:VCALENDAR
VERSION:2.0
PRODID:-//Copper River Salmon Jam - ECPv6.15.20//NONSGML v1.0//EN
CALSCALE:GREGORIAN
METHOD:PUBLISH
X-WR-CALNAME:Copper River Salmon Jam
X-ORIGINAL-URL:https://salmonjam.org
X-WR-CALDESC:Events for Copper River Salmon Jam
REFRESH-INTERVAL;VALUE=DURATION:PT1H
X-Robots-Tag:noindex
X-PUBLISHED-TTL:PT1H
BEGIN:VTIMEZONE
TZID:America/Anchorage
BEGIN:DAYLIGHT
TZOFFSETFROM:-0900
TZOFFSETTO:-0800
TZNAME:AKDT
DTSTART:20230312T110000
END:DAYLIGHT
BEGIN:STANDARD
TZOFFSETFROM:-0800
TZOFFSETTO:-0900
TZNAME:AKST
DTSTART:20231105T100000
END:STANDARD
BEGIN:DAYLIGHT
TZOFFSETFROM:-0900
TZOFFSETTO:-0800
TZNAME:AKDT
DTSTART:20240310T110000
END:DAYLIGHT
BEGIN:STANDARD
TZOFFSETFROM:-0800
TZOFFSETTO:-0900
TZNAME:AKST
DTSTART:20241103T100000
END:STANDARD
BEGIN:DAYLIGHT
TZOFFSETFROM:-0900
TZOFFSETTO:-0800
TZNAME:AKDT
DTSTART:20250309T110000
END:DAYLIGHT
BEGIN:STANDARD
TZOFFSETFROM:-0800
TZOFFSETTO:-0900
TZNAME:AKST
DTSTART:20251102T100000
END:STANDARD
END:VTIMEZONE
BEGIN:VTIMEZONE
TZID:America/Anchorage
BEGIN:DAYLIGHT
TZOFFSETFROM:-0900
TZOFFSETTO:-0800
TZNAME:AKDT
DTSTART:20230312T110000
END:DAYLIGHT
BEGIN:STANDARD
TZOFFSETFROM:-0800
TZOFFSETTO:-0900
TZNAME:AKST
DTSTART:20231105T100000
END:STANDARD
BEGIN:DAYLIGHT
TZOFFSETFROM:-0900
TZOFFSETTO:-0800
TZNAME:AKDT
DTSTART:20240310T110000
END:DAYLIGHT
BEGIN:STANDARD
TZOFFSETFROM:-0800
TZOFFSETTO:-0900
TZNAME:AKST
DTSTART:20241103T100000
END:STANDARD
BEGIN:DAYLIGHT
TZOFFSETFROM:-0900
TZOFFSETTO:-0800
TZNAME:AKDT
DTSTART:20250309T110000
END:DAYLIGHT
BEGIN:STANDARD
TZOFFSETFROM:-0800
TZOFFSETTO:-0900
TZNAME:AKST
DTSTART:20251102T100000
END:STANDARD
END:VTIMEZONE
BEGIN:VEVENT
DTSTART;TZID=America/Anchorage:20240719T140000
DTEND;TZID=America/Anchorage:20240719T150000
DTSTAMP:20260420T033153
CREATED:20230708T005329Z
LAST-MODIFIED:20240708T212759Z
UID:11991-1721397600-1721401200@salmonjam.org
SUMMARY:4H Music Camp busking
DESCRIPTION:Small groups of students + staff from Cordova 4H Music Camp will be playing music around town in various locations from 2-3pm on Friday\, July 19th.
URL:https://salmonjam.org/event/4h-music-camp-busking/
LOCATION:Around Town
END:VEVENT
BEGIN:VEVENT
DTSTART;TZID=America/Anchorage:20240719T093000
DTEND;TZID=America/Anchorage:20240719T100000
DTSTAMP:20260420T033153
CREATED:20230708T184852Z
LAST-MODIFIED:20240708T213302Z
UID:11998-1721381400-1721383200@salmonjam.org
SUMMARY:Free Community Concert
DESCRIPTION:Navy Band Northwest will be hosting a FREE mini concert Friday morning at Mt Eccles Elementary School.
URL:https://salmonjam.org/event/free-community-concert/
LOCATION:Mt. Eccles Elementary School\, 201 Adams Avenue\, Cordova\, AK\, 99574\, United States
ATTACH;FMTTYPE=image/jpeg:https://salmonjam.org/wp-content/uploads/2023/07/brrlunch.jpg
ORGANIZER;CN="Cordova Arts & Pageants":MAILTO:cdvarts@gmail.com
END:VEVENT
BEGIN:VEVENT
DTSTART;TZID=America/Anchorage:20240717T080000
DTEND;TZID=America/Anchorage:20240731T170000
DTSTAMP:20260420T033153
CREATED:20220709T172225Z
LAST-MODIFIED:20240708T215617Z
UID:10980-1721203200-1722445200@salmonjam.org
SUMMARY:Story Book Forest
DESCRIPTION:The Cordova Public Library presents a Story Book Forest at Ski Hill. Enjoy this family-friendly activity on your own schedule. It will be open the Wednesday before the festival starts and remain open throughout the month of July.
URL:https://salmonjam.org/event/story-book-forest/
LOCATION:Mt Eyak Ski Area\, Number One Ski Hill Road\, Cordova\, AK\, 99574\, United States
ATTACH;FMTTYPE=image/jpeg:https://salmonjam.org/wp-content/uploads/2022/07/salmon-forest-david-smith-storybook-forest-2024.jpeg
END:VEVENT
BEGIN:VEVENT
DTSTART;TZID=America/Anchorage:20240715T110000
DTEND;TZID=America/Anchorage:20240718T130000
DTSTAMP:20260420T033153
CREATED:20210709T001924Z
LAST-MODIFIED:20240708T213559Z
UID:10455-1721041200-1721307600@salmonjam.org
SUMMARY:Festival HQ Open
DESCRIPTION:Festival HQ is open on First Street in front of Union Hall. Stop by to pick up a schedule\, buy your music tickets\, raffle tickets\, and check out our new Merch!
URL:https://salmonjam.org/event/festival-hq-open/
LOCATION:Copper River Watershed Project
ATTACH;FMTTYPE=image/jpeg:https://salmonjam.org/wp-content/uploads/2018/07/jamminsalmonemail.jpg
END:VEVENT
END:VCALENDAR